BEGIN:VCALENDAR
VERSION:2.0
PRODID:-//wp-events-plugin.com//7.2.3.1//EN
BEGIN:VEVENT
UID:703@powerbrokermagazine.com
DTSTART:20260425T000000Z
DTEND:20260425T030000Z
DTSTAMP:20260324T172922Z
URL:https://powerbrokermagazine.com/events/y2k-pajama-party-at-floridarama
 /
SUMMARY:Y2K Pajama Party at FloridaRAMA
DESCRIPTION:FloridaRAMA\, and The Girls Who Get It invite guests to step ba
 ck into the early 2000s for a nostalgic\, high-energy pajama party on Frid
 ay\, April 24\, 2026 from 7 to 10 PM. This immersive event blends music\, 
 creativity and pop vibes into a one-of-a-kind night designed for guests se
 eking a playful escape. Set within FloridaRAMA’s vibrant\, immersive ins
 tallations\, the Y2K Pajama Party features a live DJ spinning beloved Y2K-
 era hits\, including iconic R&amp\;B tracks and Disney Channel favorites. 
 Guests are encouraged to embrace the theme with a pajama/Y2K dress code\, 
 creating a relaxed and whimsical atmosphere perfect for dancing and unwind
 ing. The evening will offer a variety of interactive experiences\, includi
 ng themed crafts and games\, curated vendor booths and a signature “girl
  dinner” concept\, bringing a fun\, social twist to casual dining. A ful
 l-service bar will also be available for 21+ guests.\n\nGuests Can Expect\
 n● Live DJ playing nostalgic Y2K hits\, including R&amp\;B and Disney fa
 vorites\n● Themed crafts and interactive games\n● Vendor booths featur
 ing local brands and creatives\n● “Girl dinner” experience included 
 with admission\n● Pajama dress code for a cozy\, themed vibe\n● Bar ac
 cess for guests 21+\nEvent Details\n● Date: Friday\, April 24\, 2026\n
 ● Time: 7-10 PM\n● Location: 2606 Fairfield Avenue S\, St. Petersburg\
 , FL 33712\n● Admission: $55 per person\n\nClick Here more information!
ATTACH;FMTTYPE=image/jpeg:https://powerbrokermagazine.com/wp-content/uploa
 ds/2026/03/FloridaRAMA_Y2KFlyer-1-1536x1024-1.png
CATEGORIES:Arts,Community
END:VEVENT
END:VCALENDAR