BEGIN:VCALENDAR
VERSION:2.0
PRODID:-//wp-events-plugin.com//7.2.3.1//EN
BEGIN:VEVENT
UID:799@powerbrokermagazine.com
DTSTART:20260425T150000Z
DTEND:20260425T170000Z
DTSTAMP:20260421T234814Z
URL:https://powerbrokermagazine.com/events/womens-entrepreneurial-panel-di
 scussion/
SUMMARY:Women’s Entrepreneurial Panel Discussion
DESCRIPTION:Join the Alpha Kappa Alpha Sorority\, Incorporated® (Zeta Upsi
 lon Omega Chapter) and the Youth Development Foundation of Pinellas County
 \, Inc. for an empowering event dedicated to female founders and business 
 owners.\n\nIn partnership with the Build Our Economic Wealth Committee\, t
 his panel discussion is designed to provide actionable insights into secur
 ing the capital and resources necessary to grow your business. Whether you
  are an aspiring entrepreneur or an established business owner\, this even
 t offers a unique opportunity to learn\, network\, and build economic powe
 r within our community.\n\n 	What to Expect\nExpert Panel Discussion: Gain
  valuable knowledge on navigating SBA loans and identifying available gran
 ts.\n 	Wealth Building: Strategic insights from the Build Our Economic Wea
 lth Committee on sustainable financial growth.\n 	Vendor Market: Explore a
 nd support local businesses with vendors onsite throughout the event.\n 	C
 ommunity Connection: This event is open to the public\, fostering a space 
 for networking and professional development.\n\nRegistration\nAdmission is
  open to all community members. Please secure your spot in advance by scan
 ning the QR code on the official flyer to register.
ATTACH;FMTTYPE=image/jpeg:https://powerbrokermagazine.com/wp-content/uploa
 ds/2026/04/IMG_3446.jpg
CATEGORIES:Business,Networking
LOCATION:St. Petersburg College (SPC) - Allstate Center\, 3200 34th St S\, 
 St. Petersburg\, FL\, 33711\, United States
X-APPLE-STRUCTURED-LOCATION;VALUE=URI;X-ADDRESS=3200 34th St S\, St. Peters
 burg\, FL\, 33711\, United States;X-APPLE-RADIUS=100;X-TITLE=St. Petersbur
 g College (SPC) - Allstate Center:geo:0,0
END:VEVENT
END:VCALENDAR