BEGIN:VCALENDAR
VERSION:2.0
PRODID:-//wp-events-plugin.com//7.2.3.1//EN
BEGIN:VEVENT
UID:757@powerbrokermagazine.com
DTSTART:20260425T000000Z
DTEND:20260425T020000Z
DTSTAMP:20260402T193925Z
URL:https://powerbrokermagazine.com/events/tombolo-books-presents-the-laun
 ch-event-for-mending-the-nets-with-maureen-mcdole-and-helen-french/
SUMMARY:Tombolo Books Presents the Launch Event for "Mending the Nets" with
  Maureen McDole and Helen French
DESCRIPTION:In celebration of National Poetry Month this April\, the City o
 f St. Petersburg's new poet laureate\, Denzel Johnson-Green\, and several 
 partners are presenting the fourth annual City of Writers Poetry Festival.
  All month\, the festival will bring a wide range of events to the communi
 ty\, from thought‑provoking discussions with acclaimed poets to hands‑
 on writing workshops and inspiring live readings.\nClick Here for more inf
 ormation!
ATTACH;FMTTYPE=image/jpeg:https://powerbrokermagazine.com/wp-content/uploa
 ds/2026/04/658248633_1402701431884940_3830866221329671197_n.jpg
CATEGORIES:Arts,Community,Entertainment
LOCATION:Tombolo Books\, 2153 1st Ave S\, St. Petersburg\, FL\, 33712\, Uni
 ted States
X-APPLE-STRUCTURED-LOCATION;VALUE=URI;X-ADDRESS=2153 1st Ave S\, St. Peters
 burg\, FL\, 33712\, United States;X-APPLE-RADIUS=100;X-TITLE=Tombolo Books
 :geo:0,0
END:VEVENT
END:VCALENDAR