BEGIN:VCALENDAR
VERSION:2.0
PRODID:-//wp-events-plugin.com//7.2.3.1//EN
BEGIN:VEVENT
UID:792@powerbrokermagazine.com
DTSTART:20260425T000000Z
DTEND:20260426T020000Z
DTSTAMP:20260417T173123Z
URL:https://powerbrokermagazine.com/events/the-thorn/
SUMMARY:The Thorn
DESCRIPTION:\n\n\n𝙏𝙝𝙚 𝙏𝙝𝙤𝙧𝙣 tells the epic story of
  God’s love for the world and the spiritual battle for all humanity. Oft
 en described as cirque meets The Passion\, The Thorn is an immersive theat
 rical experience seen by over 2 million featuring music\, drama\, aerial a
 cts\, movement arts\, modern dance\, and big visual effects. Get your tick
 ets now!\n\nIMPORTANT INFORMATION: The show includes flashing lights\, str
 obe lights\, fog/haze\, and loud music. Recommended for ages 12+. See FAQs
  for more info.\n\n\n\n\n\n\n\n\n\nClick Here for more information and to 
 purchase tickets!\n\n\n\n\n\n
ATTACH;FMTTYPE=image/jpeg:https://powerbrokermagazine.com/wp-content/uploa
 ds/2026/04/584153649_10163483744945915_8450579053083053596_n.jpg
CATEGORIES:Entertainment
LOCATION:Straz Center- Morsani Hall\, 1010 N Macinnes Pl\, Tampa\, FL\, 336
 02\, United States
X-APPLE-STRUCTURED-LOCATION;VALUE=URI;X-ADDRESS=1010 N Macinnes Pl\, Tampa\
 , FL\, 33602\, United States;X-APPLE-RADIUS=100;X-TITLE=Straz Center- Mors
 ani Hall:geo:0,0
END:VEVENT
END:VCALENDAR