BEGIN:VCALENDAR
VERSION:2.0
PRODID:-//wp-events-plugin.com//7.2.3.1//EN
BEGIN:VEVENT
UID:666@powerbrokermagazine.com
DTSTART:20260625T230000Z
DTEND:20260626T010000Z
DTSTAMP:20260313T185944Z
URL:https://powerbrokermagazine.com/events/the-fac-president-installation-
 ceremony-dinner-in-honor-of-dr-rene-hower/
SUMMARY:The FAC President Installation Ceremony & Dinner in Honor of Dr. Re
 ne Hower
DESCRIPTION:Tickets &amp\; Tables\nIndividual Ticket: $150 per person\n\nTa
 ble of 8: $1\,200\n\nPurchase Link: Click here to buy tickets\n\nContact I
 nformation\nFor additional information\, please contact Darlina Herring at
  (727) 418-5908.\n\nClick Here for more information!
ATTACH;FMTTYPE=image/jpeg:https://powerbrokermagazine.com/wp-content/uploa
 ds/2026/03/unnamed-2.png
CATEGORIES:Business
LOCATION:The Hilton Orlando\, 6001 Destination Parkway\, Orlando\, FL\, Uni
 ted States
X-APPLE-STRUCTURED-LOCATION;VALUE=URI;X-ADDRESS=6001 Destination Parkway\, 
 Orlando\, FL\, United States;X-APPLE-RADIUS=100;X-TITLE=The Hilton Orlando
 :geo:0,0
END:VEVENT
END:VCALENDAR