BEGIN:VCALENDAR
VERSION:2.0
PRODID:-//wp-events-plugin.com//7.2.3.1//EN
BEGIN:VEVENT
UID:767@powerbrokermagazine.com
DTSTART:20260502T190000Z
DTEND:20260502T230000Z
DTSTAMP:20260408T182513Z
URL:https://powerbrokermagazine.com/events/the-cookout-kids-activity-zone/
SUMMARY:The Cookout Kids Activity Zone
DESCRIPTION:Hosts: Kayz Little Einstein Academy &amp\; KidzVIPKare Event Ch
 ildcare\nThe event features several interactive zones designed for fathers
  and children:\n\n\n 	Build With Dad Challenge: Focuses on teamwork and pr
 oblem-solving.\n 	Dad &amp\; Me Keepsake Crafts: Creating cards and pictur
 e frames.\n 	Mini Field Day Games: Including relays\, tug-of-war\, and mor
 e.\n 	Memory Booth Fun: Photos and "Why I Love My Dad" activities.\n\nPric
 ing &amp\; Registration\n\n\n 	Cost: $10 per child | $8 for each additiona
 l sibling.\n 	Capacity: Limited spots available (15 children per session).
 \n 	Registration: Attendees are encouraged to register early by scanning t
 he QR code on the flyer.\n\nFor more information email: KayzAcademy@gmail.
 com
CATEGORIES:Community
LOCATION:USF St. Pete Campus\, 140 7th Ave S\, St. Petersburg\, FL\, United
  States
X-APPLE-STRUCTURED-LOCATION;VALUE=URI;X-ADDRESS=140 7th Ave S\, St. Petersb
 urg\, FL\, United States;X-APPLE-RADIUS=100;X-TITLE=USF St. Pete Campus:ge
 o:0,0
END:VEVENT
END:VCALENDAR