BEGIN:VCALENDAR
VERSION:2.0
PRODID:-//wp-events-plugin.com//7.2.3.1//EN
BEGIN:VEVENT
UID:790@powerbrokermagazine.com
DTSTART:20260502T190000Z
DTEND:20260502T230000Z
DTSTAMP:20260416T205654Z
URL:https://powerbrokermagazine.com/events/the-cookout-a-celebration-of-br
 otherhood-5/
SUMMARY:The Cookout: A celebration of brotherhood
DESCRIPTION:\n 	Event Highlights\nTheme: "Bring the Kids. Build the Bond."\
 n 	Activities: Family-friendly atmosphere featuring a bounce house/inflata
 ble play area for children.\n 	Presented By: Community EFX\n\nContact &amp
 \; Registration\nEmail: info@communityefx.com\n\nMore Info: A QR code is p
 rovided on the flyer for direct access to additional event details or regi
 stration.
ATTACH;FMTTYPE=image/jpeg:https://powerbrokermagazine.com/wp-content/uploa
 ds/2026/04/Screenshot-2026-04-16-at-4.26.02-PM.png
CATEGORIES:Community
LOCATION:USF St. Pete Campus\, 140 7th Ave S\, St. Petersburg\, FL\, United
  States
X-APPLE-STRUCTURED-LOCATION;VALUE=URI;X-ADDRESS=140 7th Ave S\, St. Petersb
 urg\, FL\, United States;X-APPLE-RADIUS=100;X-TITLE=USF St. Pete Campus:ge
 o:0,0
END:VEVENT
END:VCALENDAR