BEGIN:VCALENDAR
VERSION:2.0
PRODID:-//wp-events-plugin.com//7.2.3.1//EN
BEGIN:VEVENT
UID:671@powerbrokermagazine.com
DTSTART:20260502T190000Z
DTEND:20260502T230000Z
DTSTAMP:20260316T170217Z
URL:https://powerbrokermagazine.com/events/the-cookout-a-celebration-of-br
 otherhood-4/
SUMMARY:The Cookout: A Celebration of Brotherhood
DESCRIPTION:\n\n\nJoin us for a FREE celebration of fathers &amp\; brotherh
 ood\, food\, wellness\, and community at USF St. Petersburg's beautiful wa
 terfront.\n\n\n\n\n\n\nA free\, one-of-a-kind event dedicated to honoring 
 and uplifting men in our community. Join us for an inspiring afternoon of 
 brotherhood\, wellness\, and connection.\n\nWhat to Expect:\n\n 	Self-Care
  Stations: Relax and recharge with tailored self-care experiences\, inclu
 ding chair massages\, haircuts\, and grooming.\n 	Entertainment: Enjoy mu
 sic by special guest DJs.\n 	Local Vendors: Discover amazing food\, produ
 cts\, and services while supporting local businesses.\n\nWhy Attend?\nThis
  event is all about celebrating and supporting men while providing a safe 
 and empowering space. Together\, we’ll foster meaningful connections and
  unforgettable memories.\n\nNote: While all are welcome to join us\, amen
 ities\, stations\, and activations are exclusively designed for male atten
 dees.\n\nClick Here for more information!\n\n\n
ATTACH;FMTTYPE=image/jpeg:https://powerbrokermagazine.com/wp-content/uploa
 ds/2026/03/image-6.webp
CATEGORIES:Community
LOCATION:USF St. Pete Campus\, 140 7th Ave S\, St. Petersburg\, FL\, United
  States
X-APPLE-STRUCTURED-LOCATION;VALUE=URI;X-ADDRESS=140 7th Ave S\, St. Petersb
 urg\, FL\, United States;X-APPLE-RADIUS=100;X-TITLE=USF St. Pete Campus:ge
 o:0,0
END:VEVENT
END:VCALENDAR