BEGIN:VCALENDAR
VERSION:2.0
PRODID:-//wp-events-plugin.com//7.2.3.1//EN
BEGIN:VEVENT
UID:235@powerbrokermagazine.com
DTSTART:20260901T050000Z
DTEND:20260906T050000Z
DTSTAMP:20250521T141240Z
URL:https://powerbrokermagazine.com/events/super-legend-cruise/
SUMMARY:Super Legend Cruise
DESCRIPTION:SUPER LEGENDS CRUISE is back once again in 2026\, but now\, by 
 popular demand\,\nwe will be sailing for 5 amazing nights. From September 
 1-6\, 2026\, we will cruise roundtrip\nfrom Long Beach\, CA to Cabo San Lu
 cas\, MX on the all-new Carnival Panorama.\nYou won't want to miss this un
 forgettable adventure! Click here for tickets &amp\; more.
ATTACH;FMTTYPE=image/jpeg:https://powerbrokermagazine.com/wp-content/uploa
 ds/2025/05/IMG_9440.jpg
CATEGORIES:Entertainment,Entertainment|Events,Travel
LOCATION:\, \, 
X-APPLE-STRUCTURED-LOCATION;VALUE=URI;X-ADDRESS=\, ;X-APPLE-RADIUS=100;X-TI
 TLE=:geo:0,0
END:VEVENT
END:VCALENDAR