BEGIN:VCALENDAR
VERSION:2.0
PRODID:-//wp-events-plugin.com//7.2.3.1//EN
BEGIN:VEVENT
UID:630@powerbrokermagazine.com
DTSTART:20260522T230000Z
DTEND:20260523T040000Z
DTSTAMP:20260304T172426Z
URL:https://powerbrokermagazine.com/events/studio-54-more/
SUMMARY:Studio 54 & More
DESCRIPTION:This isn't just a throwbaci-it's a brand-new tour experience\, 
 and we're bringing it to Pinellas Park Performing Arts Center for an unfor
 egettable night of music\, glamour\, and nonstop dancing.\n\nWhere the ele
 gance of Palm Beach glamour meets the iconic sound\, style\, and sparkle o
 f Studio 54 - a night that redefines disco\, freestyle &amp\; 80's classic
 s for today.\n\nSophisticated. Glamourous. Electric.\n\nClick here for mor
 e information and to purchase tickets!
ATTACH;FMTTYPE=image/jpeg:https://powerbrokermagazine.com/wp-content/uploa
 ds/2026/03/unnamed-27.jpg
CATEGORIES:Entertainment
END:VEVENT
END:VCALENDAR