BEGIN:VCALENDAR
VERSION:2.0
PRODID:-//wp-events-plugin.com//7.2.3.1//EN
BEGIN:VEVENT
UID:581@powerbrokermagazine.com
DTSTART:20260512T150000Z
DTEND:20260512T170000Z
DTSTAMP:20260218T190011Z
URL:https://powerbrokermagazine.com/events/starting-your-business/
SUMMARY:Starting Your Business
DESCRIPTION:Turn your business idea into reality!\n\nJoin this startup esse
 ntials in-person event to learn how to determine feasibility\, choose the 
 right legal structure\, and navigate the licenses and steps needed to laun
 ch your business successfully.\n\nSpeaker: Retta Parsons\, Business Cons
 ultant\, Florida SBDC at Hillsborough County\n\nClick Here for more inform
 ation!
CATEGORIES:Business,Networking
END:VEVENT
END:VCALENDAR