BEGIN:VCALENDAR
VERSION:2.0
PRODID:-//wp-events-plugin.com//7.2.3.1//EN
BEGIN:VEVENT
UID:691@powerbrokermagazine.com
DTSTART:20260503T050000Z
DTEND:20260503T050000Z
DTSTAMP:20260324T023551Z
URL:https://powerbrokermagazine.com/events/srq-womens-expo-empowering-wome
 n-in-business-beauty-self-care/
SUMMARY:SRQ Women’s Expo: Empowering Women in Business\, Beauty & Self-Ca
 re
DESCRIPTION:What to Expect• Women-owned business vendors• Beauty\, well
 ness &amp\; self-care experiences• Networking with inspiring female lead
 ers• Shopping\, giveaways &amp\; exclusive experiences\nA powerful after
 noon designed to uplift\, connect &amp\; inspire\nWho Should AttendEntrepr
 eneurs • Working Moms • ProfessionalsCreatives • Women ready to inve
 st in themselves\nClick Here for more information!
ATTACH;FMTTYPE=image/jpeg:https://powerbrokermagazine.com/wp-content/uploa
 ds/2026/03/624707008_122251129148151435_4583575710798782971_n.jpg
CATEGORIES:Community,Networking
LOCATION:Ovations Hotel\, 1255 N Palm Ave\, Sarasota\, FL\, 34236\, United 
 States
X-APPLE-STRUCTURED-LOCATION;VALUE=URI;X-ADDRESS=1255 N Palm Ave\, Sarasota\
 , FL\, 34236\, United States;X-APPLE-RADIUS=100;X-TITLE=Ovations Hotel:geo
 :0,0
END:VEVENT
END:VCALENDAR