BEGIN:VCALENDAR
VERSION:2.0
PRODID:-//wp-events-plugin.com//7.2.3.1//EN
BEGIN:VEVENT
UID:704@powerbrokermagazine.com
DTSTART:20260425T150000Z
DTEND:20260425T190000Z
DTSTAMP:20260324T175546Z
URL:https://powerbrokermagazine.com/events/spring-into-summer-block-party/
SUMMARY:Spring into Summer - Block Party
DESCRIPTION:Get ready to have a blast at the Spring into Summer - Family B
 lock Party! Bring your whole crew for a fun-filled day packed with games\,
  tasty treats\, and great company. Lots of resources to get families think
 ing about transitions to summertime activities once the kids finish up in 
 school! Don’t miss out on this awesome chance to meet neighbors\, make m
 emories\, and just kick back and enjoy some good music and good vibes.\n\n
 *Families with children newborn to age 5 are especially welcome!*\n\n\nCli
 ck Here for more information!\n\n
ATTACH;FMTTYPE=image/jpeg:https://powerbrokermagazine.com/wp-content/uploa
 ds/2026/03/Screenshot-2026-03-24-at-1.50.14-PM.png
CATEGORIES:Community
LOCATION:The Family Study Center\, 510 3rd Street South \, St. Petersburg\,
  FL\, 33701\, United States
X-APPLE-STRUCTURED-LOCATION;VALUE=URI;X-ADDRESS=510 3rd Street South \, St.
  Petersburg\, FL\, 33701\, United States;X-APPLE-RADIUS=100;X-TITLE=The Fa
 mily Study Center:geo:0,0
END:VEVENT
END:VCALENDAR