BEGIN:VCALENDAR
VERSION:2.0
PRODID:-//wp-events-plugin.com//7.2.3.1//EN
BEGIN:VEVENT
UID:786@powerbrokermagazine.com
DTSTART:20260429T220000Z
DTEND:20260430T010000Z
DTSTAMP:20260415T184635Z
URL:https://powerbrokermagazine.com/events/speakers-who-inspire/
SUMMARY:Speakers Who Inspire
DESCRIPTION:\nJoin us April 29 for Speakers Who Inspire featuring award-win
 ning author and culinary historian Michael W. Twitty.\n\n\nTwitty\, author
  of The Cooking Gene\, explores the connections between food\, history\, c
 ulture\, and identity. During this special evening\, he’ll share how the
  ways we eat today connect to the past\, and how communities can reclaim p
 ower through food.\n\n\nClick Here for more information!
ATTACH;FMTTYPE=image/jpeg:https://powerbrokermagazine.com/wp-content/uploa
 ds/2026/04/unnamed-88.jpg
CATEGORIES:Community
LOCATION:Tombolo Books\, 2153 1st Ave S\, St. Petersburg\, FL\, 33712\, Uni
 ted States
X-APPLE-STRUCTURED-LOCATION;VALUE=URI;X-ADDRESS=2153 1st Ave S\, St. Peters
 burg\, FL\, 33712\, United States;X-APPLE-RADIUS=100;X-TITLE=Tombolo Books
 :geo:0,0
END:VEVENT
END:VCALENDAR