BEGIN:VCALENDAR
VERSION:2.0
PRODID:-//wp-events-plugin.com//7.2.3.1//EN
BEGIN:VEVENT
UID:768@powerbrokermagazine.com
DTSTART:20260424T220000Z
DTEND:20260425T000000Z
DTSTAMP:20260408T183216Z
URL:https://powerbrokermagazine.com/events/songkran-festival-lao-thai-khme
 r-new-year/
SUMMARY:Songkran Festival Lao Thai Khmer New Year
DESCRIPTION:Get ready for an unforgettable weekend Celebrate Lao\, Thai &am
 p\; Cambodian New Year with us at Mega Night Market 50+ international food
  vendors Live music &amp\; cultural performances Parade + nonstop entertai
 nment April 24–26 Fri 5PM–11PM | Sat 12PM–11PM | Sun 12PM–9PM Win!
 \n\n FREE entry + FREE parking\n\nBring your friends\, family\, and your a
 ppetite — this is one you don’t want to miss.\n\nReserve your free tic
 kets now: meganightmarket.com
ATTACH;FMTTYPE=image/jpeg:https://powerbrokermagazine.com/wp-content/uploa
 ds/2026/04/unnamed-76.jpg
CATEGORIES:Community
END:VEVENT
END:VCALENDAR