BEGIN:VCALENDAR
VERSION:2.0
PRODID:-//wp-events-plugin.com//7.2.3.1//EN
BEGIN:VEVENT
UID:686@powerbrokermagazine.com
DTSTART:20260503T160000Z
DTEND:20260503T200000Z
DTSTAMP:20260323T201204Z
URL:https://powerbrokermagazine.com/events/sis-fill-my-cup/
SUMMARY:Sis\, Fill My Cup
DESCRIPTION:This space is intentionally curated for women who are navigatin
 g life\, business\, motherhood\, healing\, and ambition all at once\, and 
 need a moment to reset\, be poured into\, and reminded of their power.\n\n
 Expect real conversations.\nSafe space energy.\nStrategic empowerment.\nAn
 d a room full of women who understand the weight you carry — and the gre
 atness you’re called to walk in.\n\nYou will leave lighter.\nYou will le
 ave clearer.\n\nAnd most importantly\, you will leave with your cup filled
  — mentally\, emotionally\, and purposefully.\n\nClick Here for more inf
 ormation and to purchase tickets!
ATTACH;FMTTYPE=image/jpeg:https://powerbrokermagazine.com/wp-content/uploa
 ds/2026/03/655759369_2684002988623380_5440533935798513551_n.jpg
CATEGORIES:Business
END:VEVENT
END:VCALENDAR