BEGIN:VCALENDAR
VERSION:2.0
PRODID:-//wp-events-plugin.com//7.2.3.1//EN
BEGIN:VEVENT
UID:783@powerbrokermagazine.com
DTSTART:20260509T213000Z
DTEND:20260509T223000Z
DTSTAMP:20260414T151010Z
URL:https://powerbrokermagazine.com/events/side-splitters-comedy-club-tamp
 a/
SUMMARY:Side Splitters Comedy Club Tampa
DESCRIPTION:\nTampa… this is your move\n\n\nIf you need a night out (or w
 ant to score BIG points with mom)… this is it.\n\n\nPre-Mother’s Day C
 omedy Show\nFeaturing national headliner Mark Gregory\n\n\nClean comedy. R
 eal laughs. No awkward moments.\n\nClick Here for more information!\n\n
ATTACH;FMTTYPE=image/jpeg:https://powerbrokermagazine.com/wp-content/uploa
 ds/2026/04/667895498_10237981436227041_7007761850204435169_n-1.jpeg
CATEGORIES:Entertainment,Entertainment|Events
LOCATION:Side Splitters Comedy Club - Wesley Chapel\, 6333 Wesley Grove Blv
 d Theater\, Unit 7\,  Wesley Chapel\,  FL\, 33544\, United States
X-APPLE-STRUCTURED-LOCATION;VALUE=URI;X-ADDRESS=6333 Wesley Grove Blvd Thea
 ter\, Unit 7\,  Wesley Chapel\,  FL\, 33544\, United States;X-APPLE-RADIUS
 =100;X-TITLE=Side Splitters Comedy Club - Wesley Chapel:geo:0,0
END:VEVENT
END:VCALENDAR