BEGIN:VCALENDAR
VERSION:2.0
PRODID:-//wp-events-plugin.com//7.2.3.1//EN
BEGIN:VEVENT
UID:801@powerbrokermagazine.com
DTSTART:20260424T050000Z
DTEND:20260425T050000Z
DTSTAMP:20260422T175902Z
URL:https://powerbrokermagazine.com/events/second-act-summit-mission-possi
 ble/
SUMMARY:Second Act Summit: Mission Possible
DESCRIPTION:The premier Summit for women 40+ ready to prove their most powe
 rful years are ahead. Mission: Possible starts now. Limited spots availabl
 e.\n\nClick Here to purchase tickets!
ATTACH;FMTTYPE=image/jpeg:https://powerbrokermagazine.com/wp-content/uploa
 ds/2026/04/674227046_1690863245265664_8559946993558457008_n.jpg
CATEGORIES:Networking
LOCATION:Leblanc Venue\, 1517 E 9th Ave\, Tampa\, FL\, 33605\, United State
 s
X-APPLE-STRUCTURED-LOCATION;VALUE=URI;X-ADDRESS=1517 E 9th Ave\, Tampa\, FL
 \, 33605\, United States;X-APPLE-RADIUS=100;X-TITLE=Leblanc Venue:geo:0,0
END:VEVENT
END:VCALENDAR