BEGIN:VCALENDAR
VERSION:2.0
PRODID:-//wp-events-plugin.com//7.2.3.1//EN
BEGIN:VEVENT
UID:642@powerbrokermagazine.com
DTSTART:20260422T183000Z
DTEND:20260427T043000Z
DTSTAMP:20260305T174624Z
URL:https://powerbrokermagazine.com/events/seabreeze-jazz-festival/
SUMMARY:Seabreeze Jazz Festival
DESCRIPTION:
ATTACH;FMTTYPE=image/jpeg:https://powerbrokermagazine.com/wp-content/uploa
 ds/2026/03/unnamed-41.jpg
LOCATION:Aaron Bessant Park Amphitheater\, 500 W Park Dr\, Panama City Beac
 h\, FL\, 32413\, United States
X-APPLE-STRUCTURED-LOCATION;VALUE=URI;X-ADDRESS=500 W Park Dr\, Panama City
  Beach\, FL\, 32413\, United States;X-APPLE-RADIUS=100;X-TITLE=Aaron Bessa
 nt Park Amphitheater:geo:0,0
END:VEVENT
END:VCALENDAR