BEGIN:VCALENDAR
VERSION:2.0
PRODID:-//wp-events-plugin.com//7.2.3.1//EN
BEGIN:VEVENT
UID:714@powerbrokermagazine.com
DTSTART:20260508T170000Z
DTEND:20260511T030000Z
DTSTAMP:20260325T160849Z
URL:https://powerbrokermagazine.com/events/rolling-loud/
SUMMARY:Rolling Loud
DESCRIPTION:With a stacked lineup led by international superstars Don Tolli
 ver\, NBA Youngboy\, and Playboi Carti\, the energy is guaranteed to be un
 matched. Three stages\, a Ferris wheel and hecka artist installations help
  bring a weekend of hip-hop and good vibes to Orlando.\nCost: Three-day GA
  tickets start at $329.\nAge: All ages welcome.\nClick Here for more infor
 mation!
ATTACH;FMTTYPE=image/jpeg:https://powerbrokermagazine.com/wp-content/uploa
 ds/2026/03/rolling-loud-orlando-2026-1.webp
LOCATION:Camping World Stadium Grounds\, 1 Citrus Bowl Place\, Orlando\, FL
 \, 32805\, United States
X-APPLE-STRUCTURED-LOCATION;VALUE=URI;X-ADDRESS=1 Citrus Bowl Place\, Orlan
 do\, FL\, 32805\, United States;X-APPLE-RADIUS=100;X-TITLE=Camping World S
 tadium Grounds:geo:0,0
END:VEVENT
END:VCALENDAR