BEGIN:VCALENDAR
VERSION:2.0
PRODID:-//wp-events-plugin.com//7.2.3.1//EN
BEGIN:VEVENT
UID:618@powerbrokermagazine.com
DTSTART:20260504T000000Z
DTEND:20260504T020000Z
DTSTAMP:20260305T150128Z
URL:https://powerbrokermagazine.com/events/rb-music-experience-legacy-seri
 es/
SUMMARY:R&B Music Experience Legacy Series
DESCRIPTION:After nearly ten years away from the touring stage\, Floetry
 —the iconic duo of Marsha Ambrosius and Natalie “The Floacist” St
 ewart—return for their highly anticipated 2026 U.S. tour\, their first n
 ational run together since 2016.\n\nKnown for seamlessly blending soulful 
 vocals with spoken-word poetry\, Floetry redefined contemporary R&amp\;B w
 ith their platinum debut Floetic\, creating a sound rooted in vulnerabili
 ty\, lyricism\, and emotional depth.\n\nJoining Floetry for this special t
 our are Raheem DeVaughn and Teedra Moses\, two of modern soul’s most 
 respected voices. Together\, the lineup delivers a rare\, R&amp\;B-forward
  live experience celebrating musicianship\, poetry\, and timeless soul.\n\
 nClick Here for more information!
ATTACH;FMTTYPE=image/jpeg:https://powerbrokermagazine.com/wp-content/uploa
 ds/2026/03/Screenshot-2026-03-02-at-11.30.39-AM.png
CATEGORIES:Entertainment
LOCATION:Florida Theatre Jacksonville\, FL\, 128 E Forsyth St #300\, Jackso
 nville\, FL\, 32202\, United States
X-APPLE-STRUCTURED-LOCATION;VALUE=URI;X-ADDRESS=128 E Forsyth St #300\, Jac
 ksonville\, FL\, 32202\, United States;X-APPLE-RADIUS=100;X-TITLE=Florida 
 Theatre Jacksonville\, FL:geo:0,0
END:VEVENT
END:VCALENDAR