BEGIN:VCALENDAR
VERSION:2.0
PRODID:-//wp-events-plugin.com//7.2.3.1//EN
BEGIN:VEVENT
UID:791@powerbrokermagazine.com
DTSTART:20260530T150000Z
DTEND:20260530T180000Z
DTSTAMP:20260417T143654Z
URL:https://powerbrokermagazine.com/events/pre-fathers-day-bowling-celebra
 tion/
SUMMARY:Pre - Father's Day Bowling Celebration
DESCRIPTION:Calling all men and fathers\, join us for an afternoon of fun\,
  connection\, and friendly competition as we celebrate YOU! Take a break f
 rom the daily grind and enjoy a space designed to help you relax\, rechar
 ge\, and release stress. Laughter\, movement\, and fellowship all play a r
 ole in supporting your mental and emotional well-being—and this is the p
 erfect opportunity to do just that. Whether you're a seasoned bowler or ju
 st coming for the vibes\, this event is all about community\, connection\,
  and good times.\n\nClick Here for more information!
ATTACH;FMTTYPE=image/jpeg:https://powerbrokermagazine.com/wp-content/uploa
 ds/2026/04/672687572_921607103834826_2066674743719212548_n-1.jpg
CATEGORIES:Community
LOCATION:Sunrise Bowling Alley\, 6393 9th St. N\, St. Petersburg\, FL\, 337
 02\, United States
X-APPLE-STRUCTURED-LOCATION;VALUE=URI;X-ADDRESS=6393 9th St. N\, St. Peters
 burg\, FL\, 33702\, United States;X-APPLE-RADIUS=100;X-TITLE=Sunrise Bowli
 ng Alley:geo:0,0
END:VEVENT
END:VCALENDAR