BEGIN:VCALENDAR
VERSION:2.0
PRODID:-//wp-events-plugin.com//7.2.3.1//EN
BEGIN:VEVENT
UID:705@powerbrokermagazine.com
DTSTART:20260428T233000Z
DTEND:20260429T010000Z
DTSTAMP:20260324T180028Z
URL:https://powerbrokermagazine.com/events/poetry-prose-celebrate-national
 -poetry-month/
SUMMARY:Poetry & Prose Celebrate National Poetry Month
DESCRIPTION:Join local poet Lyn Davis\, Poettreevines and Healotry\, C.C. C
 lark\, to celebrate National Poetry Month\, and Black Poetry History. Live
  poetry performance\, create your own poem\, share it not. Come for the vi
 bes\, leave with feeling of community connection celebrating National Poet
 ry Month.\n\nClick Here for more information!
ATTACH;FMTTYPE=image/jpeg:https://powerbrokermagazine.com/wp-content/uploa
 ds/2026/03/Black-And-Beige-Bold-Torn-Paper-Open-Mic-Night-Event-Flyer.png
CATEGORIES:Community
LOCATION:President Barack Obama Main Library\, Auditorium\, 3745 9th Ave N\
 , St. Petersburg\, FL\, 33713\, United States
X-APPLE-STRUCTURED-LOCATION;VALUE=URI;X-ADDRESS=3745 9th Ave N\, St. Peters
 burg\, FL\, 33713\, United States;X-APPLE-RADIUS=100;X-TITLE=President Bar
 ack Obama Main Library\, Auditorium:geo:0,0
END:VEVENT
END:VCALENDAR