BEGIN:VCALENDAR
VERSION:2.0
PRODID:-//wp-events-plugin.com//7.2.3.1//EN
BEGIN:VEVENT
UID:588@powerbrokermagazine.com
DTSTART:20260612T003000Z
DTEND:20260614T023000Z
DTSTAMP:20260223T155827Z
URL:https://powerbrokermagazine.com/events/passing-strange-2/
SUMMARY:Passing Strange
DESCRIPTION:From singer-songwriter and performance artist Stew comes PASSIN
 G STRANGE\, a daring musical that takes you on a journey across boundaries
  of place\, identity and theatrical convention. Stew brings us the story o
 f a young bohemian who charts a course for “the real” through sex\, dr
 ugs and rock ‘n’ roll. Loaded with soulful lyrics and overflowing with
  passion\, the show takes us from black middle-class America to Amsterdam\
 , Berlin and beyond on a journey towards personal and artistic authenticit
 y.\n\nClick Here for more information!
ATTACH;FMTTYPE=image/jpeg:https://powerbrokermagazine.com/wp-content/uploa
 ds/2026/02/Passing-Strange-650px-x-550px.png
CATEGORIES:Entertainment
LOCATION:the studio @620\, 620 1st Ave S\, St. Petersburg\, FL\, 33701\, Un
 ited States
X-APPLE-STRUCTURED-LOCATION;VALUE=URI;X-ADDRESS=620 1st Ave S\, St. Petersb
 urg\, FL\, 33701\, United States;X-APPLE-RADIUS=100;X-TITLE=the studio @62
 0:geo:0,0
END:VEVENT
END:VCALENDAR