BEGIN:VCALENDAR
VERSION:2.0
PRODID:-//wp-events-plugin.com//7.2.3.1//EN
BEGIN:VEVENT
UID:658@powerbrokermagazine.com
DTSTART:20260530T000000Z
DTEND:20260530T040000Z
DTSTAMP:20260310T164912Z
URL:https://powerbrokermagazine.com/events/only-rb-krate-southern-soul-ste
 ppin-edition/
SUMMARY:Only R&B @ KRATE - Southern Soul Steppin Edition
DESCRIPTION:Nico Brown Productions brings You...\n\nOnly R&amp\;B @ KRATE!!
 !\n\nSouthern Soul Steppin Edition\n\nMike Clark Jr Performing Live!!!\n\n
 A rising Soul &amp\; R&amp\;B artist celebrated for his seamless fusion of
  classic Soul &amp\; Southern Blues\, infused w/ modern rhythmic flair.\n\
 nPerforming His New Hit Single: Keep On Steppin\n\nAlong with R&amp\;B cov
 er songs and more original new music!\n\nClick Here for more information!
CATEGORIES:Entertainment,Entertainment|Events
END:VEVENT
END:VCALENDAR