BEGIN:VCALENDAR
VERSION:2.0
PRODID:-//wp-events-plugin.com//7.2.3.1//EN
BEGIN:VEVENT
UID:712@powerbrokermagazine.com
DTSTART:20260530T183000Z
DTEND:20260530T203000Z
DTSTAMP:20260324T214215Z
URL:https://powerbrokermagazine.com/events/ncnw-st-petersburg-metropolitan
 -section-inc-a-chartered-section-celebrating-84-years/
SUMMARY:NCNW St. Petersburg Metropolitan Section Inc. A Chartered Section C
 elebrating 84 Years
DESCRIPTION:Join the NCNW St. Petersburg Metropolitan Section Inc. as we ce
 lebrate a monumental milestone: 84 years of service and empowerment!\nUnde
 r the theme "Continuing Our Legacy: Committed To The Purpose\, With Resili
 ence To Progress\," we are honored to feature Mrs. Darla Otey-Murphy as ou
 r Keynote Speaker. Come gather with us at the First Baptist Church of St. 
 Petersburg for an afternoon of inspiration and sisterhood.\nGet your ticke
 ts today:\n\n\n 	Individual: $55\n 	Table (8 seats): $440\n 	Online: [Link
 ]\n 	Zelle: 727-558-5574\n\nClick Here for more information!
ATTACH;FMTTYPE=image/jpeg:https://powerbrokermagazine.com/wp-content/uploa
 ds/2026/03/Screenshot-2026-03-24-at-5.36.05-PM.png
CATEGORIES:Community,Networking
END:VEVENT
END:VCALENDAR