BEGIN:VCALENDAR
VERSION:2.0
PRODID:-//wp-events-plugin.com//7.2.3.1//EN
BEGIN:VEVENT
UID:755@powerbrokermagazine.com
DTSTART:20260424T000000Z
DTEND:20260424T020000Z
DTSTAMP:20260402T193704Z
URL:https://powerbrokermagazine.com/events/moonrise-poetry-who-are-we-why-
 do-we-create/
SUMMARY:Moonrise Poetry: Who Are We? Why Do We Create?
DESCRIPTION:In celebration of National Poetry Month this April\, the City o
 f St. Petersburg's new poet laureate\, Denzel Johnson-Green\, and several 
 partners are presenting the fourth annual City of Writers Poetry Festival.
  All month\, the festival will bring a wide range of events to the communi
 ty\, from thought‑provoking discussions with acclaimed poets to hands‑
 on writing workshops and inspiring live readings.\nClick Here for more inf
 ormation!
ATTACH;FMTTYPE=image/jpeg:https://powerbrokermagazine.com/wp-content/uploa
 ds/2026/04/658248633_1402701431884940_3830866221329671197_n.jpg
CATEGORIES:Arts,Community,Entertainment
END:VEVENT
END:VCALENDAR