BEGIN:VCALENDAR
VERSION:2.0
PRODID:-//wp-events-plugin.com//7.2.3.1//EN
BEGIN:VEVENT
UID:578@powerbrokermagazine.com
DTSTART:20260514T190000Z
DTEND:20260514T210000Z
DTSTAMP:20260218T165000Z
URL:https://powerbrokermagazine.com/events/marketing-101/
SUMMARY:Marketing 101
DESCRIPTION:Take this class to uncover the characteristics that make up you
 r business' DNA. After answering the two most important questions in all o
 f marketing\, you'll be ready to skillfully implement customer-winning str
 ategies and face the competition.\n\nSpeaker: Janette Blanco\, Assistant
  Director\, Florida SBDC at Hillsborough County\n\nSchedule: 2:00 pm - 4:
 00 pm\n\nLocation: Victor Crist Community Center\, 14013 N 22nd St\, Tam
 pa\, FL 33613\n\nCo-Hosted By: Uptown Temple Terrace Chamber of Commerce\n
 \nRegistration is required\, as space is limited.\n\nQuestions or concerns
  please contact MayhewE@hcfl.gov.\n\nClick Here for more information!
ATTACH;FMTTYPE=image/jpeg:https://powerbrokermagazine.com/wp-content/uploa
 ds/2026/02/oid00D6g000003Q8Waids068VO00000jvc9td_a_VO000004j0Pl_8YbSkt3dV2
 0ZuuQqdk3JmLg7lFky80VsKYD1Vvvyc5QasPdffalse.webp
CATEGORIES:Business,Networking
END:VEVENT
END:VCALENDAR