BEGIN:VCALENDAR
VERSION:2.0
PRODID:-//wp-events-plugin.com//7.2.3.1//EN
BEGIN:VEVENT
UID:661@powerbrokermagazine.com
DTSTART:20260716T170000Z
DTEND:20260716T180000Z
DTSTAMP:20260311T143434Z
URL:https://powerbrokermagazine.com/events/living-kidney-donor-champion-tr
 aining-2/
SUMMARY:Living Kidney Donor Champion Training
DESCRIPTION:Are you or a loved one in need of a kidney transplant? Do you w
 ant to learn how to become an advocate for living kidney donation? Join us
  for an empowering and informative session designed to guide and support i
 ndividuals on the journey to finding a living kidney donor.\n\nThe Living 
 Kidney Donor Champion Training is open to transplant candidates\, their fa
 milies\, friends\, and anyone interested in learning more about living kid
 ney donation. Wether you're a transplant candidate or a supporter\, this c
 lass wil leave you feeling informed\, empowered and ready to take the next
  steps in your transplant journey. Here firsthand from living donors and t
 ransplant recipients share their powerful stories and experiences.\n\nFor 
 More information on this event\, call (813) 844-5669 or email livingkidney
 donor@tgh.org.\n\nClick Here for more information!
ATTACH;FMTTYPE=image/jpeg:https://powerbrokermagazine.com/wp-content/uploa
 ds/2026/03/unnamed-57.jpg
CATEGORIES:Health
LOCATION:TGH Transplant Institute\, 409 Bayshore Blvd. 4th Floor\, Tampa\, 
 FL\, 33606\, United States
X-APPLE-STRUCTURED-LOCATION;VALUE=URI;X-ADDRESS=409 Bayshore Blvd. 4th Floo
 r\, Tampa\, FL\, 33606\, United States;X-APPLE-RADIUS=100;X-TITLE=TGH Tran
 splant Institute:geo:0,0
END:VEVENT
END:VCALENDAR