BEGIN:VCALENDAR
VERSION:2.0
PRODID:-//wp-events-plugin.com//7.2.3.1//EN
BEGIN:VEVENT
UID:788@powerbrokermagazine.com
DTSTART:20261121T010000Z
DTEND:20261121T030000Z
DTSTAMP:20260416T174503Z
URL:https://powerbrokermagazine.com/events/leslie-jones-im-hot-tour/
SUMMARY:Leslie Jones: I’m Hot Tour
DESCRIPTION:Jones is a three-time Primetime Emmy Award nominee as well as a
  Writer’s Guild Award and NAACP Award nominee for her work on Saturday 
 Night Live. She has also been honored as one of Time Magazine’s “1
 00 Most Influential People.”\n\nJones recently wrapped production on sea
 son two of the HBO Max series Our Flag Means Death. The week of January 1
 7th\, 2023\, Jones kicked off a new era of The Daily Show as the program
 ’s first guest host. In 2021\, she starred opposite Eddie Murphy in Com
 ing 2 America for which she won an MTV Movie Award and was nominated for
  a People’s Choice Award.\n\nClick Here for more information!
ATTACH;FMTTYPE=image/jpeg:https://powerbrokermagazine.com/wp-content/uploa
 ds/2026/04/unnamed-91.jpg
CATEGORIES:Entertainment
LOCATION:Tampa Theatre\, 711 N Franklin St\, Tampa\, FL\, 33602\, United St
 ates
X-APPLE-STRUCTURED-LOCATION;VALUE=URI;X-ADDRESS=711 N Franklin St\, Tampa\,
  FL\, 33602\, United States;X-APPLE-RADIUS=100;X-TITLE=Tampa Theatre:geo:0
 ,0
END:VEVENT
END:VCALENDAR