BEGIN:VCALENDAR
VERSION:2.0
PRODID:-//wp-events-plugin.com//7.2.3.1//EN
BEGIN:VEVENT
UID:738@powerbrokermagazine.com
DTSTART:20260621T220000Z
DTEND:20260621T220000Z
DTSTAMP:20260401T144254Z
URL:https://powerbrokermagazine.com/events/jazzy-juneteenth-jubilee-2/
SUMMARY:Jazzy Juneteenth Jubilee
DESCRIPTION:The Woodson’s premier event is back this summer to celebrate 
 Juneteenth — but with a twist!\nChoose from red\, black\, green\, or yel
 low during this year’s Jazzy Juneteenth Jubilee to honor the emancipatio
 n of African Americans in the United States and the ongoing pursuit of tru
 e equality for all.\nTables sell out quickly\, so don’t miss your chance
  to secure one for your group!\nClick Here to purchase a table.
ATTACH;FMTTYPE=image/jpeg:https://powerbrokermagazine.com/wp-content/uploa
 ds/2026/04/RED-BLACK-OR-GREEN-WHAT-WILL-YOU-CHOOSE-6.png
CATEGORIES:Community
LOCATION:The Coliseum\, 535 4th Avenue North\, St. Petersburg\, FL\, 33701\
 , United States
X-APPLE-STRUCTURED-LOCATION;VALUE=URI;X-ADDRESS=535 4th Avenue North\, St. 
 Petersburg\, FL\, 33701\, United States;X-APPLE-RADIUS=100;X-TITLE=The Col
 iseum:geo:0,0
END:VEVENT
END:VCALENDAR