BEGIN:VCALENDAR
VERSION:2.0
PRODID:-//wp-events-plugin.com//7.2.3.1//EN
BEGIN:VEVENT
UID:711@powerbrokermagazine.com
DTSTART:20260924T003000Z
DTEND:20260924T023000Z
DTSTAMP:20260324T213505Z
URL:https://powerbrokermagazine.com/events/its-iconic-the-tour-tlc-and-sal
 t-n-pepper-with-en-vogue/
SUMMARY:It's Iconic The Tour: TLC and Salt-N-Pepper with En Vogue
DESCRIPTION:Click Here for more information and to purchase tickets!
ATTACH;FMTTYPE=image/jpeg:https://powerbrokermagazine.com/wp-content/uploa
 ds/2026/03/salt-n-pepa-TLC-Its-Iconic-Tour-2026.jpg
CATEGORIES:Entertainment
LOCATION:MIDFLORIDA Credit Union Amphitheatre\, 4802 US-301\,  Tampa\, FL\,
  33610\, United States
X-APPLE-STRUCTURED-LOCATION;VALUE=URI;X-ADDRESS=4802 US-301\,  Tampa\, FL\,
  33610\, United States;X-APPLE-RADIUS=100;X-TITLE=MIDFLORIDA Credit Union 
 Amphitheatre:geo:0,0
END:VEVENT
END:VCALENDAR