BEGIN:VCALENDAR
VERSION:2.0
PRODID:-//wp-events-plugin.com//7.2.3.1//EN
BEGIN:VEVENT
UID:709@powerbrokermagazine.com
DTSTART:20260726T000000Z
DTEND:20260726T020000Z
DTSTAMP:20260324T212002Z
URL:https://powerbrokermagazine.com/events/hip-hop-orchestra-tour-2026/
SUMMARY:Hip-Hop Orchestra Tour 2026
DESCRIPTION:Click Here to learn more and purchase tickets!
ATTACH;FMTTYPE=image/jpeg:https://powerbrokermagazine.com/wp-content/uploa
 ds/2026/03/Screenshot-2026-03-24-at-5.06.34-PM.png
CATEGORIES:Entertainment
LOCATION:Florida Theatre Jacksonville\, FL\, 128 E Forsyth St #300\, Jackso
 nville\, FL\, 32202\, United States
X-APPLE-STRUCTURED-LOCATION;VALUE=URI;X-ADDRESS=128 E Forsyth St #300\, Jac
 ksonville\, FL\, 32202\, United States;X-APPLE-RADIUS=100;X-TITLE=Florida 
 Theatre Jacksonville\, FL:geo:0,0
END:VEVENT
END:VCALENDAR