BEGIN:VCALENDAR
VERSION:2.0
PRODID:-//wp-events-plugin.com//7.2.3.1//EN
BEGIN:VEVENT
UID:710@powerbrokermagazine.com
DTSTART:20260906T000000Z
DTEND:20260906T020000Z
DTSTAMP:20260324T212328Z
URL:https://powerbrokermagazine.com/events/hip-hop-orchestra-tour-2026-2/
SUMMARY:Hip-Hop Orchestra Tour 2026
DESCRIPTION:Click Here to learn more and purchase tickets!
ATTACH;FMTTYPE=image/jpeg:https://powerbrokermagazine.com/wp-content/uploa
 ds/2026/03/Screenshot-2026-03-24-at-5.06.34-PM.png
CATEGORIES:Entertainment
LOCATION:Julius Littman Performing Arts Center\, 17011 NE 19th Ave\, North 
 Miami Beach\, FL\, 33162\, United States
X-APPLE-STRUCTURED-LOCATION;VALUE=URI;X-ADDRESS=17011 NE 19th Ave\, North M
 iami Beach\, FL\, 33162\, United States;X-APPLE-RADIUS=100;X-TITLE=Julius 
 Littman Performing Arts Center:geo:0,0
END:VEVENT
END:VCALENDAR