BEGIN:VCALENDAR
VERSION:2.0
PRODID:-//wp-events-plugin.com//7.2.3.1//EN
BEGIN:VEVENT
UID:555@powerbrokermagazine.com
DTSTART:20260508T233000Z
DTEND:20260509T003000Z
DTSTAMP:20260213T164510Z
URL:https://powerbrokermagazine.com/events/heroes-off-duty-comedy-tour/
SUMMARY:Heroes Off Duty Comedy Tour
DESCRIPTION:Viral comedic sensations\, Heroes Off Duty Comedy Tour make the
 ir Clearwater debut at the Bilheimer Capitol Theatre!\n\nCheck them out at
  @HeroesOffDuty on all socials and see what the hype is all about. America
 ’s funniest first responders are back—this time on a mission to save l
 ives with laughter. The Heroes Off Duty Comedy Tour brings together cops\,
  firefighters\, doctors\, nurses\, EMTs\, pharmacists\, and military veter
 ans for a side-splitting night of stories from the line of duty. With over
  600\,000 social followers and over 50 million video views\, these off dut
 y heroes are proving that laughter really is the best medicine. As one fir
 efighter-comedian put it\, “We’ve seen some wild things out there—bu
 t nothing compares to seeing a room full of cops\, nurses\, and veterans l
 augh together until they cry. It's the therapy we all need.” Whether you
 ’re a first responder\, or simply a supporter of the public servants who
  keep our communities safe\, this is your night to unwind\, laugh\, and co
 nnect.\n\nClick Here for more information!
ATTACH;FMTTYPE=image/jpeg:https://powerbrokermagazine.com/wp-content/uploa
 ds/2026/02/unnamed-6-1.jpg
CATEGORIES:Entertainment
LOCATION:Nancy & David Bilheimer Capitol Theatre\, 405 Cleveland St\, Clear
 water\, FL\, 33755\, United States
X-APPLE-STRUCTURED-LOCATION;VALUE=URI;X-ADDRESS=405 Cleveland St\, Clearwat
 er\, FL\, 33755\, United States;X-APPLE-RADIUS=100;X-TITLE=Nancy & David B
 ilheimer Capitol Theatre:geo:0,0
END:VEVENT
END:VCALENDAR