BEGIN:VCALENDAR
VERSION:2.0
PRODID:-//wp-events-plugin.com//7.2.3.1//EN
BEGIN:VEVENT
UID:544@powerbrokermagazine.com
DTSTART:20260523T190000Z
DTEND:20260524T030000Z
DTSTAMP:20260203T203518Z
URL:https://powerbrokermagazine.com/events/florida-seafood-caribbean-music
 -festival/
SUMMARY:Florida Seafood Caribbean Music Festival
DESCRIPTION:Welcome to the Florida Seafood &amp\; Caribbean Music Festival
 ! Get ready for a day of delicious seafood and groovy tunes at Curtis Hix
 on Park in Tampa\, FL\, USA. This in-person event will be a feast for yo
 ur taste buds and your soul. Indulge in a variety of mouthwatering seafood
  dishes while enjoying the vibrant rhythms of Caribbean music. Join us for
  a memorable day filled with good food\, great music\, and even better vib
 es. Don't miss out on this incredible festival!\n\nlawn chairs and coolers
  are welcome\n\nGates open at 2pm-10pm\n\nFREE CRAWFISH\n\nFREE RUM PUNCH
ATTACH;FMTTYPE=image/jpeg:https://powerbrokermagazine.com/wp-content/uploa
 ds/2026/02/unnamed-4.jpg
CATEGORIES:Community,Entertainment
LOCATION:600 N Ashley Dr\, 600 N Ashley Dr\, Tampa\, FL\, 33602\, United St
 ates
X-APPLE-STRUCTURED-LOCATION;VALUE=URI;X-ADDRESS=600 N Ashley Dr\, Tampa\, F
 L\, 33602\, United States;X-APPLE-RADIUS=100;X-TITLE=600 N Ashley Dr:geo:0
 ,0
END:VEVENT
END:VCALENDAR