BEGIN:VCALENDAR
VERSION:2.0
PRODID:-//wp-events-plugin.com//7.2.3.1//EN
BEGIN:VEVENT
UID:639@powerbrokermagazine.com
DTSTART:20260515T050000Z
DTEND:20260519T050000Z
DTSTAMP:20260304T183203Z
URL:https://powerbrokermagazine.com/events/east-coast-entrepreneur-summit/
SUMMARY:East Coast Entrepreneur Summit
DESCRIPTION:
ATTACH;FMTTYPE=image/jpeg:https://powerbrokermagazine.com/wp-content/uploa
 ds/2026/03/unnamed-23.jpg
CATEGORIES:Business,Networking
LOCATION:http://Elliott%20Army
END:VEVENT
END:VCALENDAR