BEGIN:VCALENDAR
VERSION:2.0
PRODID:-//wp-events-plugin.com//7.2.3.1//EN
BEGIN:VEVENT
UID:585@powerbrokermagazine.com
DTSTART:20260424T010000Z
DTEND:20260424T030000Z
DTSTAMP:20260221T052610Z
URL:https://powerbrokermagazine.com/events/chris-tucker-live/
SUMMARY:Chris Tucker Live
DESCRIPTION:Chris Tucker’s breakthrough as a stand-up comedian on Def Co
 medy Jam back in 1992 led to a steady string of movie roles in “Friday\
 ,” “Dead Presidents” and “Jackie Brown\,” among others. His comm
 ercial peak came with 1998’s “Rush Hour” and its two sequels\, which
  paired Tucker and Jackie Chan as mismatched buddy cops. In recent years h
 e’s focused more on stand-up\, and his upcoming tour will bring him to o
 ur stage.\n\nClick Here for more information and to purchase tickets!
ATTACH;FMTTYPE=image/jpeg:https://powerbrokermagazine.com/wp-content/uploa
 ds/2026/02/unnamed-17.jpg
CATEGORIES:Entertainment
LOCATION:Starz Center\, 1010 N Macinnes Pl\, Tampa\, FL\, 33602\, United St
 ates
X-APPLE-STRUCTURED-LOCATION;VALUE=URI;X-ADDRESS=1010 N Macinnes Pl\, Tampa\
 , FL\, 33602\, United States;X-APPLE-RADIUS=100;X-TITLE=Starz Center:geo:0
 ,0
END:VEVENT
END:VCALENDAR