BEGIN:VCALENDAR
VERSION:2.0
PRODID:-//wp-events-plugin.com//7.2.3.1//EN
BEGIN:VEVENT
UID:780@powerbrokermagazine.com
DTSTART:20260423T170000Z
DTEND:20260423T190000Z
DTSTAMP:20260413T203225Z
URL:https://powerbrokermagazine.com/events/cdc-impact-tour-come-see-the-vi
 sion-in-action/
SUMMARY:CDC Impact Tour – Come See the Vision in Action
DESCRIPTION:Want to learn more about the CDC of Tampa—our housing develop
 ments\, workforce center\, and innovative 3D-printed homes? Join us for an
  upcoming Impact Tour. It’s free\, lunch is included\, and the experienc
 e is powerful.\n\nRegister Here
ATTACH;FMTTYPE=image/jpeg:https://powerbrokermagazine.com/wp-content/uploa
 ds/2026/04/3259a2_5a0b66c9909b4aa7bd80474d17ba6811mv2.avif
CATEGORIES:Business,Networking
LOCATION:Chloe Coney Urban Enterprise Center\, 1907 E Hillsborough Ave suit
 e 100\, Tampa\, FL\, 33610\, United States
X-APPLE-STRUCTURED-LOCATION;VALUE=URI;X-ADDRESS=1907 E Hillsborough Ave sui
 te 100\, Tampa\, FL\, 33610\, United States;X-APPLE-RADIUS=100;X-TITLE=Chl
 oe Coney Urban Enterprise Center:geo:0,0
END:VEVENT
END:VCALENDAR