BEGIN:VCALENDAR
VERSION:2.0
PRODID:-//wp-events-plugin.com//7.2.3.1//EN
BEGIN:VEVENT
UID:761@powerbrokermagazine.com
DTSTART:20260425T170000Z
DTEND:20260425T190000Z
DTSTAMP:20260406T155715Z
URL:https://powerbrokermagazine.com/events/bulls-dining-across-america/
SUMMARY:Bulls Dining Across America
DESCRIPTION:Hey Bulls FAMILY! Join us for FOOD &amp\; FELLOWSHIP as we cont
 inue to strengthen our alumni network across America. We'll be supporting 
 various Black-owned businesses in selected cities on Saturday\, April 25th
 ! Please see below for specific location details. Cost of attendance is to
  be paid in person at each respective venue.\n\nEstimated cost: $20+\n\nWh
 at to expect: Bull pride\, great vibes\, and a taste of the Caribbean you 
 don't want to miss! Come hungry!\n\nBAS Ambassadors: Kiva Williams &amp\; 
 Candace Brown\n\nClick Here for more information!
ATTACH;FMTTYPE=image/jpeg:https://powerbrokermagazine.com/wp-content/uploa
 ds/2026/04/Screenshot-2026-04-06-at-10.28.38-AM.png
CATEGORIES:Community
LOCATION:Jerk Hut Tampa\, 1241 E. Fowler Ave.\,  Tampa\, FL\, 33612\, Unite
 d States
X-APPLE-STRUCTURED-LOCATION;VALUE=URI;X-ADDRESS=1241 E. Fowler Ave.\,  Tamp
 a\, FL\, 33612\, United States;X-APPLE-RADIUS=100;X-TITLE=Jerk Hut Tampa:g
 eo:0,0
END:VEVENT
END:VCALENDAR