BEGIN:VCALENDAR
VERSION:2.0
PRODID:-//wp-events-plugin.com//7.2.3.1//EN
BEGIN:VEVENT
UID:762@powerbrokermagazine.com
DTSTART:20260425T160000Z
DTEND:20260425T180000Z
DTSTAMP:20260406T155942Z
URL:https://powerbrokermagazine.com/events/bulls-dining-across-america-2/
SUMMARY:Bulls Dining Across America
DESCRIPTION:Hey Bulls FAMILY! Join us for FOOD &amp\; FELLOWSHIP as we cont
 inue to strengthen our alumni network across America. We'll be supporting 
 various Black-owned businesses in selected cities on Saturday\, April 25th
 ! Please see below for specific location details. Cost of attendance is to
  be paid in person at each respective venue.\n\nEstimated cost: $15\n\nWha
 t to expect: Join the USF Black Alumni Society of St. Pete at The Neon Lun
 chbox for a chance to build long-lasting connections and community. Enjoy 
 a blast from the past in this nostalgic eatery\, complete with a delicious
  and affordable menu blending southern comforts and convenient handhelds\,
  and a special USF-themed cocktail. Check out the menu and atmosphere ahea
 d of time at their website.\n\nBAS Ambassadors: Maranda Douglas &amp\; St
 ephanie Morge\n\nClick Here for more information!
ATTACH;FMTTYPE=image/jpeg:https://powerbrokermagazine.com/wp-content/uploa
 ds/2026/04/Screenshot-2026-04-06-at-10.28.38-AM.png
CATEGORIES:Community,Networking
LOCATION:The Neon Lunchbox\, 1756 Central Ave.\, St. Petersburg\, FL\, 3371
 2\, United States
X-APPLE-STRUCTURED-LOCATION;VALUE=URI;X-ADDRESS=1756 Central Ave.\, St. Pet
 ersburg\, FL\, 33712\, United States;X-APPLE-RADIUS=100;X-TITLE=The Neon L
 unchbox:geo:0,0
END:VEVENT
END:VCALENDAR