BEGIN:VCALENDAR
VERSION:2.0
PRODID:-//wp-events-plugin.com//7.2.3.1//EN
BEGIN:VEVENT
UID:737@powerbrokermagazine.com
DTSTART:20260530T230000Z
DTEND:20260531T020000Z
DTSTAMP:20260401T132828Z
URL:https://powerbrokermagazine.com/events/blooming-in-black-6th-annual-ar
 tist-exhibit-presented-green-book-of-tampa-bay-by/
SUMMARY:Blooming in Black - 6th Annual Artist Exhibit Presented Green Book 
 of Tampa Bay by
DESCRIPTION:Join the Green Book of Tampa Bay as we commemorate Juneteenth t
 hrough “Blooming in Black\,” an art exhibition celebrating the beauty\
 , resilience\, and creative brilliance of Black artists in our community. 
 Featuring works by Green Book-listed artists\, this exhibition highlights 
 a vibrant spectrum of artistic voices whose contributions shape our presen
 t and illuminate the future. Each piece tells a story of identity\, herita
 ge\, and imagination\, and blossoming into new possibilities. In short\, w
 e hope to inspire you and your flourishing!\nBe sure to join us for the op
 ening reception on May 30 from 6:00 PM–9:00 PM\, an evening of art\, liv
 e performances\, and conversation with the artists.\n\nClick Here for more
  information and to purchase tickets!
ATTACH;FMTTYPE=image/jpeg:https://powerbrokermagazine.com/wp-content/uploa
 ds/2026/04/657671372_929572286484520_8980358121737977459_n.jpg
CATEGORIES:Arts,Community
LOCATION:Studios@5663\, 5663 Park Boulevard\, St. Petersburg\, FL\, 33781\,
  United States
X-APPLE-STRUCTURED-LOCATION;VALUE=URI;X-ADDRESS=5663 Park Boulevard\, St. P
 etersburg\, FL\, 33781\, United States;X-APPLE-RADIUS=100;X-TITLE=Studios@
 5663:geo:0,0
END:VEVENT
END:VCALENDAR