BEGIN:VCALENDAR
VERSION:2.0
PRODID:-//wp-events-plugin.com//7.2.3.1//EN
BEGIN:VEVENT
UID:653@powerbrokermagazine.com
DTSTART:20260505T140000Z
DTEND:20260506T220000Z
DTSTAMP:20260310T151632Z
URL:https://powerbrokermagazine.com/events/black-maternal-mental-health-su
 mmit-2026/
SUMMARY:Black Maternal Mental Health Summit 2026
DESCRIPTION:\n\n\n\n\nThe 2026 Summit is designed as a working convening fo
 cused on real-world impact. We are seeking sessions that clearly identify 
 a defined problem or systems gap and present a usable model\, framework\, 
 or strategy that participants can apply in clinical\, community\, or syste
 ms settings. Proposals should demonstrate how research\, lived experience\
 , or professional expertise translates into practical action and strengthe
 ns coordination across clinical and community systems.\n\n\n\n\n\n\n\n\n\n
 Click Here for more information!\n\n\n
ATTACH;FMTTYPE=image/jpeg:https://powerbrokermagazine.com/wp-content/uploa
 ds/2026/03/unnamed-51.jpg
CATEGORIES:Community,Health,Networking
LOCATION:https://www.bgmhfoundation.org/bmmhs2026?fbclid=IwdGRleAQbx5VleHRu
 A2FlbQEwAGFkaWQBqzB5Y35WyHNydGMGYXBwX2lkCjY2Mjg1NjgzNzkAAR7GKWweDCv-xJho_w
 wxXoAAkWsrRk4kiMszZfI23DI2toIKps6_hvlY5fskgg_aem_4G4n2bfB5KprXGAc3keHAA&ut
 m_medium=paid&utm_source=fb&utm_id=120243112937820312&utm_content=12024311
 2942480312&utm_term=120243112938030312&utm_campaign=120243112937820312
END:VEVENT
END:VCALENDAR