BEGIN:VCALENDAR
VERSION:2.0
PRODID:-//wp-events-plugin.com//7.2.3.1//EN
BEGIN:VEVENT
UID:789@powerbrokermagazine.com
DTSTART:20260426T230000Z
DTEND:20260427T020000Z
DTSTAMP:20260416T175255Z
URL:https://powerbrokermagazine.com/events/beautillion-militaire/
SUMMARY:Beautillion Militaire
DESCRIPTION:The Beautillion Militaire Experience provides a structured atmo
 sphere for young men in their junior and senior years of high school to de
 velop socially\, culturally\, and intellectually via various activities an
 d unique workshops. The Beautillion curriculum fosters leadership developm
 ent and character education designed for a diverse group of students from 
 varying economic backgrounds.\n\nClick Here for more information!
ATTACH;FMTTYPE=image/jpeg:https://powerbrokermagazine.com/wp-content/uploa
 ds/2026/04/unnamed-92.jpg
CATEGORIES:Community
LOCATION:The Coliseum\, 535 4th Avenue North\, St. Petersburg\, FL\, 33701\
 , United States
X-APPLE-STRUCTURED-LOCATION;VALUE=URI;X-ADDRESS=535 4th Avenue North\, St. 
 Petersburg\, FL\, 33701\, United States;X-APPLE-RADIUS=100;X-TITLE=The Col
 iseum:geo:0,0
END:VEVENT
END:VCALENDAR