BEGIN:VCALENDAR
VERSION:2.0
PRODID:-//wp-events-plugin.com//7.2.3.1//EN
BEGIN:VEVENT
UID:692@powerbrokermagazine.com
DTSTART:20260509T170000Z
DTEND:20260509T230000Z
DTSTAMP:20260324T024423Z
URL:https://powerbrokermagazine.com/events/bbq-jazz-festival-4/
SUMMARY:BBQ & Jazz Festival
DESCRIPTION:Smoke in the air. Saxophones on blast. Gainesville\, this is YO
 UR Saturday. Saturday Shoppes is bringing the heat — literally — with 
 the BBQ &amp\; Jazz Festival at Oaks Mall.\nCome through for the best plat
 es in the city\, live local performances\, local vendors\, and good vibes 
 that'll have you staying way past when you planned to leave.\nFree to atte
 nd\, free parking\, and stacked with flavor.\nClick Here for more informat
 ion!
ATTACH;FMTTYPE=image/jpeg:https://powerbrokermagazine.com/wp-content/uploa
 ds/2026/03/643520781_1306086344905538_2013224378127939147_n.jpg
LOCATION:Oaks Mall\, 6419 New Berry Rd\, Gainesville\, FL\, 32605\, United 
 States
X-APPLE-STRUCTURED-LOCATION;VALUE=URI;X-ADDRESS=6419 New Berry Rd\, Gainesv
 ille\, FL\, 32605\, United States;X-APPLE-RADIUS=100;X-TITLE=Oaks Mall:geo
 :0,0
END:VEVENT
END:VCALENDAR