BEGIN:VCALENDAR
VERSION:2.0
PRODID:-//wp-events-plugin.com//7.2.3.1//EN
BEGIN:VEVENT
UID:634@powerbrokermagazine.com
DTSTART:20260429T150000Z
DTEND:20260430T220000Z
DTSTAMP:20260304T175205Z
URL:https://powerbrokermagazine.com/events/b2b-marketing-expo/
SUMMARY:B2B Marketing Expo
DESCRIPTION:\n\n\n\n\n\nJoin us at The B2B Marketing Expo: the top B2B mark
 eting event in the US!  Take your marketing to the next level over two ac
 tion packed days filled with keynote speeches from industry experts\, exhi
 bitors offering innovative solutions\, and speed networking allowing you t
 o connect with other business leaders.\nWhether you are looking to scale y
 our business\, expand your marketing capabilities\, or grow your network w
 ithin the industry\, you'll walk away form the expo with the tools and con
 fidence you need to succeed!\nClick Here for more information!\n\n\n\n\n\n
 \n
ATTACH;FMTTYPE=image/jpeg:https://powerbrokermagazine.com/wp-content/uploa
 ds/2026/03/unnamed-32.jpg
CATEGORIES:Business,Networking
LOCATION:Miami Beach Convention Center\, 1901 Convention Ctr Dr\, Miami Bea
 ch\, FL\, 33139\, United States
X-APPLE-STRUCTURED-LOCATION;VALUE=URI;X-ADDRESS=1901 Convention Ctr Dr\, Mi
 ami Beach\, FL\, 33139\, United States;X-APPLE-RADIUS=100;X-TITLE=Miami Be
 ach Convention Center:geo:0,0
END:VEVENT
END:VCALENDAR