BEGIN:VCALENDAR
VERSION:2.0
PRODID:-//wp-events-plugin.com//7.2.3.1//EN
BEGIN:VEVENT
UID:794@powerbrokermagazine.com
DTSTART:20260425T140000Z
DTEND:20260425T180000Z
DTSTAMP:20260417T173623Z
URL:https://powerbrokermagazine.com/events/annual-kidney-awareness-walk/
SUMMARY:Annual Kidney Awareness Walk
DESCRIPTION:Join fellow kidney patients\, supporters\, families\, and frien
 ds for a morning of community\, movement\, and advocacy in the beautiful n
 atural surroundings of Boyd Hill Nature Preserve. Whether you’re a patie
 nt\, caregiver\, or simply passionate about kidney health awareness\, this
  walk is open to all.\n\nClick Here for more information!
ATTACH;FMTTYPE=image/jpeg:https://powerbrokermagazine.com/wp-content/uploa
 ds/2026/04/unnamed-14.png
CATEGORIES:Community
LOCATION:Boyd Hill Hammock Hall\, 3010 31st St S\, St. Petersburg\, FL\, 33
 712\, United States
X-APPLE-STRUCTURED-LOCATION;VALUE=URI;X-ADDRESS=3010 31st St S\, St. Peters
 burg\, FL\, 33712\, United States;X-APPLE-RADIUS=100;X-TITLE=Boyd Hill Ham
 mock Hall:geo:0,0
END:VEVENT
END:VCALENDAR