BEGIN:VCALENDAR
VERSION:2.0
PRODID:-//wp-events-plugin.com//7.2.3.1//EN
BEGIN:VEVENT
UID:636@powerbrokermagazine.com
DTSTART:20260527T050000Z
DTEND:20260531T050000Z
DTSTAMP:20260304T181552Z
URL:https://powerbrokermagazine.com/events/american-black-film-festival/
SUMMARY:American Black Film Festival
DESCRIPTION:\n\n\n\n\n\n\n\n\n\nSince 1997\, the American Black Film Festiv
 al has been the preeminent event celebrating stories by and about people o
 f African descent.\n\nFrom its trailblazing start as an independent film f
 estival\, ABFF has grown into a global platform spanning film\, television
 \, music\, technology\, art\, business\, sports\, wellness\, comedy\, and 
 more. In 2026\, ABFF marks its 30th anniversary under the powerful theme 
 Homecoming—a tribute to the festival’s rich legacy and the expansive c
 ommunity it has cultivated over three decades.\n\nJoin us in Miami Beach\,
  May 27-31\, 2026\, for five unforgettable days of screenings\, star-studd
 ed events\, exclusive parties\, and unparalleled networking.\n\nBe part of
  this once-in-a-generation celebration of creativity\, connection\, and cu
 ltural impact.\n\n\n\n\n\n\n\n\nClick Here for more information!\n\n\n\n\n
 \n\n\n\n\n\n\n\n\n\n\n\n\n
ATTACH;FMTTYPE=image/jpeg:https://powerbrokermagazine.com/wp-content/uploa
 ds/2026/03/unnamed-36.jpg
CATEGORIES:Entertainment
LOCATION:https://www.abff.com/miami/?fbclid=IwdGRjcAQVLXNleHRuA2FlbQEwAGFka
 WQAAAZSH0yqS3NydGMGYXBwX2lkCjY2Mjg1NjgzNzkAAR44c1Xg9JHIgB8eNWdHd_VyV6DQCZJ
 dRIx2q5J0JOYn0DwhcPo_3ux-TOP9SA_aem_yydMcH1L0VsHrxap1e-Tjg&utm_medium=paid
 &utm_source=fb&utm_id=6943824804155&utm_content=6943824804755&utm_term=694
 3824804355&utm_campaign=6943824804155#
END:VEVENT
END:VCALENDAR