BEGIN:VCALENDAR
VERSION:2.0
PRODID:-//wp-events-plugin.com//7.2.3.1//EN
BEGIN:VEVENT
UID:654@powerbrokermagazine.com
DTSTART:20260430T130000Z
DTEND:20260504T013000Z
DTSTAMP:20260310T155055Z
URL:https://powerbrokermagazine.com/events/alpha-derby-weekend/
SUMMARY:Alpha Derby Weekend:
DESCRIPTION:FRIDAY\, MAY 1\, 2026 ALPHAS OF ATLANTA OPEN – GOLF TOURNAMEN
 T\n8AM–2:00 PM Course TBD\n\nThe upscale party with a\npurpose meets the
  grand\ngame of golf.\nSATURDAY\, MAY 2\, 2026 ALPHA DERBY™ KENTUCKY DER
 BY WATCH PARTY\n3:30 PM–8:30 PM Guardian Works (Atlanta)\nThe Big Day is
  Back! Join us\nfor the 2026 edition of Alpha\nDerby ™\, our signature\
 nfundraiser and “party with a\npurpose\,” now hosted at the\nstunning 
 Guardian Works\nvenue.\n\nSUNDAY\, MAY 3\, 2026 SUNDAY BRUNCH AND DAY PART
 Y\n11 AM–3 PM Grand Hyatt Buckhead\n\nIn Atlanta\, Sundays are for\nbrun
 ch — and we’re heading\nback to Buckhead to do it\nright! What better
  way to\nclose out a weekend of style\,\nsophistication\, and celebration\
 nthan with a brunch experience\nthat’s anything but ordinary?\n\nClick H
 ere for more information and to purchase tickets!
ATTACH;FMTTYPE=image/jpeg:https://powerbrokermagazine.com/wp-content/uploa
 ds/2026/03/unnamed-52.jpg
CATEGORIES:Entertainment,Travel
LOCATION:https://alphaderbyweekend.com/
END:VEVENT
END:VCALENDAR