BEGIN:VCALENDAR
VERSION:2.0
PRODID:-//wp-events-plugin.com//7.2.3.1//EN
BEGIN:VEVENT
UID:795@powerbrokermagazine.com
DTSTART:20260426T203000Z
DTEND:20260426T213000Z
DTSTAMP:20260417T174255Z
URL:https://powerbrokermagazine.com/events/akpsg-and-lifelink-community-af
 fair/
SUMMARY:AKPSG and LifeLink Community Affair
DESCRIPTION:Join AKPSG and De'Naysha Mullings of LifeLink for a special com
 munity gathering in honor of Donate Life Month. Secure your spot today for
  this informative Zoom session.\n\nClick Here to register!
ATTACH;FMTTYPE=image/jpeg:https://powerbrokermagazine.com/wp-content/uploa
 ds/2026/04/unnamed-15.png
CATEGORIES:Community,Health
LOCATION:https://us02web.zoom.us/meeting/register/tZ0rcu6vrDkjHNxYq2KocT3Dc
 Ie422GGO3oO
END:VEVENT
END:VCALENDAR